BEGIN:VCALENDAR
VERSION:2.0
PRODID:-//SVP Stadt St.Gallen //NONSGML Events //EN
CALSCALE:GREGORIAN
X-WR-CALNAME:SVP Stadt St.Gallen
BEGIN:VEVENT
CREATED:20260422T080012Z
UID:2977
DTEND:20260513T220000
DTSTART:20260513T190000
DTSTAMP:20260423T034215Z
LOCATION:Thurpark\, Volkshausstrasse 23\, 9630 Wattwil
DESCRIPTION:
SUMMARY:32. Churfirstentagung
ORGANIZER:Kantonalpartei SVP SG
URL;VALUE=URI:https://www.svp-stgallen.ch/termine/32-churfirstentagung/
TRANSP:OPAQUE
END:VEVENT
END:VCALENDAR
