BEGIN:VCALENDAR
VERSION:2.0
PRODID:-//SVP Stadt St.Gallen //NONSGML Events //EN
CALSCALE:GREGORIAN
X-WR-CALNAME:SVP Stadt St.Gallen
BEGIN:VEVENT
CREATED:20250219T122115Z
UID:2729
DTEND:20250502T210000
DTSTART:20250502T200000
DTSTAMP:20260424T170156Z
LOCATION:Thurpark\, Volkshausstrasse 2\, 9630 Wattwil
DESCRIPTION:Flyer Churfirstentagung
SUMMARY:31. Churfirstentagung
ORGANIZER:SVP Kanton St.Gallen
URL;VALUE=URI:https://www.svp-stgallen.ch/termine/churfirstentagung-2/
TRANSP:OPAQUE
END:VEVENT
END:VCALENDAR
