BEGIN:VCALENDAR
VERSION:2.0
PRODID:-//SVP Stadt St.Gallen //NONSGML Events //EN
CALSCALE:GREGORIAN
X-WR-CALNAME:SVP Stadt St.Gallen
BEGIN:VEVENT
CREATED:20230922T140602Z
UID:2253
DTEND:20231006T200000
DTSTART:20231006T190000
DTSTAMP:20260423T015238Z
LOCATION:Treppenbau.ch AG\, Neckertalstrasse 27\, 9608 Ganterschwil
DESCRIPTION:Flyer SVP Bütschwil-Ganterschwil bim Gwerb
SUMMARY:SVP Bütschwil-Ganterschwil bim Gwerb
ORGANIZER:SVP Bütschwil-Ganterschwil
URL;VALUE=URI:https://www.svp-stgallen.ch/termine/svp-buetschwil-ganterschwil-bim-gwerb/
TRANSP:OPAQUE
END:VEVENT
END:VCALENDAR
