BEGIN:VCALENDAR
VERSION:2.0
PRODID:-//SVP Stadt St.Gallen //NONSGML Events //EN
CALSCALE:GREGORIAN
X-WR-CALNAME:SVP Stadt St.Gallen
BEGIN:VEVENT
CREATED:20211013T172834Z
UID:1736
DTEND:20220731T000000
DTSTART:20220731T000000
DTSTAMP:20260425T173218Z
LOCATION:Dergeten\, Laad\, Nesslau
DESCRIPTION:
SUMMARY:SVP Buuresunntig mit Oldtimer-Treff
ORGANIZER:
URL;VALUE=URI:https://www.svp-stgallen.ch/termine/svp-buuresunntig-mit-oldtimer-treff/
TRANSP:OPAQUE
END:VEVENT
END:VCALENDAR
