BEGIN:VCALENDAR
VERSION:2.0
PRODID:-//SVP Stadt St.Gallen //NONSGML Events //EN
CALSCALE:GREGORIAN
X-WR-CALNAME:SVP Stadt St.Gallen
BEGIN:VEVENT
CREATED:20211013T173124Z
UID:1730
DTEND:20220921T000000
DTSTART:20220919T000000
DTSTAMP:20260423T121927Z
LOCATION:St.Gallen
DESCRIPTION:
SUMMARY:Kantonsratssession
ORGANIZER:
URL;VALUE=URI:https://www.svp-stgallen.ch/termine/kantonsratssession-2/
TRANSP:OPAQUE
END:VEVENT
END:VCALENDAR
